BEGIN:VCALENDAR
VERSION:2.0
PRODID:-//SAMsARA Wine Co. - ECPv6.15.17.1//NONSGML v1.0//EN
CALSCALE:GREGORIAN
METHOD:PUBLISH
X-WR-CALNAME:SAMsARA Wine Co.
X-ORIGINAL-URL:https://www.samsarawine.com
X-WR-CALDESC:Events for SAMsARA Wine Co.
REFRESH-INTERVAL;VALUE=DURATION:PT1H
X-Robots-Tag:noindex
X-PUBLISHED-TTL:PT1H
BEGIN:VTIMEZONE
TZID:America/Los_Angeles
BEGIN:DAYLIGHT
TZOFFSETFROM:-0800
TZOFFSETTO:-0700
TZNAME:PDT
DTSTART:20250309T100000
END:DAYLIGHT
BEGIN:STANDARD
TZOFFSETFROM:-0700
TZOFFSETTO:-0800
TZNAME:PST
DTSTART:20251102T090000
END:STANDARD
BEGIN:DAYLIGHT
TZOFFSETFROM:-0800
TZOFFSETTO:-0700
TZNAME:PDT
DTSTART:20260308T100000
END:DAYLIGHT
BEGIN:STANDARD
TZOFFSETFROM:-0700
TZOFFSETTO:-0800
TZNAME:PST
DTSTART:20261101T090000
END:STANDARD
BEGIN:DAYLIGHT
TZOFFSETFROM:-0800
TZOFFSETTO:-0700
TZNAME:PDT
DTSTART:20270314T100000
END:DAYLIGHT
BEGIN:STANDARD
TZOFFSETFROM:-0700
TZOFFSETTO:-0800
TZNAME:PST
DTSTART:20271107T090000
END:STANDARD
END:VTIMEZONE
BEGIN:VEVENT
DTSTART;TZID=America/Los_Angeles:20260418T140000
DTEND;TZID=America/Los_Angeles:20260418T170000
DTSTAMP:20260425T195047
CREATED:20260318T225830Z
LAST-MODIFIED:20260318T225830Z
UID:12661-1776520800-1776531600@www.samsarawine.com
SUMMARY:Wine & Fire
DESCRIPTION:Spend an afternoon with the winemakers and owners behind some of the Sta. Rita Hills’ most celebrated labels\, pouring their newest Chardonnays and Pinot Noirs alongside sparkling wines and Rhône varieties\, all shaped by the region’s famously cool\, sun-drenched climate. Tastings from more than 20 wineries are paired with wood-fired dishes and bites from local purveyors\, conversations with industry experts\, and live flamenco performed against the historic backdrop of Casa Covarrubias. \nAll tickets include access to the grand tasting and museum grounds. VIP tickets add two educational seminars led by Master of Wine Amy Christine: a guided blind tasting comparing Sta. Rita Hills wines with bottles from Oregon and Burgundy\, and a focused discussion on why the region is becoming one of California’s most exciting homes for sparkling wine.
URL:https://www.samsarawine.com/event/wine-fire/
LOCATION:Santa Barbara Historical Museum\, 136 E. De La Guerra Street\, Santa Barbara\, CA\, 93101\, United States
END:VEVENT
BEGIN:VEVENT
DTSTART;TZID=America/Los_Angeles:20260331T180000
DTEND;TZID=America/Los_Angeles:20260331T220000
DTSTAMP:20260425T195047
CREATED:20260318T035342Z
LAST-MODIFIED:20260317T212300Z
UID:12652-1774980000-1774994400@www.samsarawine.com
SUMMARY:Wine Dinner at La Paloma Cafe
DESCRIPTION:La Paloma Cafe \nTuesday\, March 31st at 6pm \n5-Paired Courses \n$135.30\, inclusive of tax and gratuity \nSeating is limited: Two long tables\, one phenomenal evening. \nBOOK HERE
URL:https://www.samsarawine.com/event/wine-dinner-at-la-paloma-cafe/
LOCATION:La Paloma Cafe\, 702 Anacapa Street\, Santa Barbara\, 93101\, United States
END:VEVENT
BEGIN:VEVENT
DTSTART;TZID=America/Los_Angeles:20260325T163000
DTEND;TZID=America/Los_Angeles:20260325T190000
DTSTAMP:20260425T195047
CREATED:20260318T033641Z
LAST-MODIFIED:20260319T174447Z
UID:12651-1774456200-1774465200@www.samsarawine.com
SUMMARY:Mom's Night
DESCRIPTION:Mom’s Night\nEvery Wednesday | 4:30–7pm \nYou’ve earned this. Join us every Wednesday for an evening made for moms — select glasses of wine just $12. Good wine\, good company\, no agenda.
URL:https://www.samsarawine.com/event/moms-night/
LOCATION:SAMsARA Goleta Winery and Tasting Room\, 6485 Calle Real Suite E\, Goleta\, CA\, 93117-2986\, United States
END:VEVENT
END:VCALENDAR