BEGIN:VCALENDAR
VERSION:2.0
PRODID:-//SAMsARA Wine Co. - ECPv6.15.17.1//NONSGML v1.0//EN
CALSCALE:GREGORIAN
METHOD:PUBLISH
X-WR-CALNAME:SAMsARA Wine Co.
X-ORIGINAL-URL:https://www.samsarawine.com
X-WR-CALDESC:Events for SAMsARA Wine Co.
REFRESH-INTERVAL;VALUE=DURATION:PT1H
X-Robots-Tag:noindex
X-PUBLISHED-TTL:PT1H
BEGIN:VTIMEZONE
TZID:America/Los_Angeles
BEGIN:DAYLIGHT
TZOFFSETFROM:-0800
TZOFFSETTO:-0700
TZNAME:PDT
DTSTART:20250309T100000
END:DAYLIGHT
BEGIN:STANDARD
TZOFFSETFROM:-0700
TZOFFSETTO:-0800
TZNAME:PST
DTSTART:20251102T090000
END:STANDARD
BEGIN:DAYLIGHT
TZOFFSETFROM:-0800
TZOFFSETTO:-0700
TZNAME:PDT
DTSTART:20260308T100000
END:DAYLIGHT
BEGIN:STANDARD
TZOFFSETFROM:-0700
TZOFFSETTO:-0800
TZNAME:PST
DTSTART:20261101T090000
END:STANDARD
BEGIN:DAYLIGHT
TZOFFSETFROM:-0800
TZOFFSETTO:-0700
TZNAME:PDT
DTSTART:20270314T100000
END:DAYLIGHT
BEGIN:STANDARD
TZOFFSETFROM:-0700
TZOFFSETTO:-0800
TZNAME:PST
DTSTART:20271107T090000
END:STANDARD
END:VTIMEZONE
BEGIN:VEVENT
DTSTART;TZID=America/Los_Angeles:20260516T130000
DTEND;TZID=America/Los_Angeles:20260516T170000
DTSTAMP:20260425T180624
CREATED:20260319T162655Z
LAST-MODIFIED:20260319T162758Z
UID:12666-1778936400-1778950800@www.samsarawine.com
SUMMARY:Grand Wine Tasting - Santa Barbara Culinary Experience
DESCRIPTION:Find us at the Grand Wine Tasting — the signature event of the Santa Barbara Culinary Experience — pouring alongside 40+ wineries from across Santa Barbara County at one of California’s most historic venues. \nHeld at El Presidio de Santa Barbara\, the afternoon features wine from producers spanning the full breadth of the county\, food from local makers\, live music from the Salty Strings\, and panel discussions moderated by the Santa Barbara Independent’s Matt Kettmann. It’s one of the best single afternoons to explore what Santa Barbara wine country has to offer. \nSaturday\, May 16 · El Presidio de Santa Barbara VIP admission: 1–5 PM · $125 | General admission: 2–5 PM · $105 \nProceeds benefit local nonprofits working in Santa Barbara County’s food system\, in partnership with the Julia Child Foundation for Gastronomy and the Culinary Arts. \nBuy tickets →
URL:https://www.samsarawine.com/event/grand-wine-tasting-santa-barbara-culinary-experience/
LOCATION:El Presidio de Santa Barbara State Historic Park 123 E Canon Perdido St.\, Santa Barbara\, CA\, 93101\, 123 E Canon Perdido St.\, Santa Barbara\, CA\, 93101\, United States
END:VEVENT
BEGIN:VEVENT
DTSTART;TZID=America/Los_Angeles:20260619T180000
DTEND;TZID=America/Los_Angeles:20260619T210000
DTSTAMP:20260425T180624
CREATED:20260319T164814Z
LAST-MODIFIED:20260319T170520Z
UID:12668-1781892000-1781902800@www.samsarawine.com
SUMMARY:Santa Barbara Vintners Foundation's Summer Soirée
DESCRIPTION:We’re proud to pour at the Santa Barbara Vintners Foundation’s Summer Soirée — an evening that celebrates what makes this wine region exceptional while raising funds for the people who make it possible. \nThe night brings together some of Santa Barbara’s finest vintners\, seasonal cuisine from local chefs\, a silent auction featuring rare bottles and curated experiences\, and a live performance by the Doublewide Kings Band at the beautiful Inn at Mattei’s Tavern in Los Olivos. Every ticket directly supports health and wellness programs for the vineyard and winery workers who are the backbone of Santa Barbara County’s wine industry. \nFriday\, June 19 · 6–9 PM · The Inn at Mattei’s Tavern\, Los Olivos · $250 per person \nThe first 100 ticket buyers are automatically entered to win an overnight stay at Fess Parker Wine Country Inn the night of the event. All attendees are entered to win a two-night staycation at Hotel Californian. \nGet tickets →
URL:https://www.samsarawine.com/event/santa-barbara-vintners-foundations-summer-soiree/
LOCATION:The Inn at Mattei’s Tavern\, 2350 Railway Avenue\, Los Olivos\, CA\, 93441\, United States
END:VEVENT
END:VCALENDAR